BEGIN:VCALENDAR
VERSION:2.0
PRODID:-//project/author//NONSGML v1.0//EN
CALSCALE:GREGORIAN
BEGIN:VEVENT
DTEND;TZID=Europe/Vienna:20190926T130000
UID:533
DTSTAMP;TZID=Europe/Vienna:20260420T123944
LOCATION:KLI
SUMMARY:Title to be announced
DTSTART;TZID=Europe/Vienna:20190926T120000
END:VEVENT
END:VCALENDAR