BEGIN:VCALENDAR
VERSION:2.0
PRODID:-//project/author//NONSGML v1.0//EN
CALSCALE:GREGORIAN
BEGIN:VEVENT
DTEND;TZID=Europe/Vienna:20110421T131500
UID:65
DTSTAMP;TZID=Europe/Vienna:20260420T123904
LOCATION:KLI 
SUMMARY:Genes in Context: Tales from the World of Ants and Water Striders
DTSTART;TZID=Europe/Vienna:20110421T131500
END:VEVENT
END:VCALENDAR